BEGIN:VCALENDAR
VERSION:2.0
PRODID:-//Tukios.com/
BEGIN:VEVENT
UID:0867d3b0-0afb-450d-b200-3e41809ac8f0@www.beckerfamilyfuneral.com
DTSTAMP:20260421T100537Z
DTSTART:20260424T140000Z
DTEND:20260424T150000Z
SUMMARY:Funeral Service
DESCRIPTION:
URL:https://www.beckerfamilyfuneral.com/obituaries/kenneth-rhodes-sr
LOCATION:Cape Canaveral National Cemetery 5525 US-1  Mims FL 32754
GEO:28.7551102;-80.8736306
END:VEVENT
END:VCALENDAR