BEGIN:VCALENDAR
VERSION:2.0
PRODID:-//Tukios.com/
BEGIN:VEVENT
UID:b6009360-b045-4673-b493-fad9b9bed99f@www.beckerfamilyfuneral.com
DTSTAMP:20260424T214835Z
DTSTART:20260429T163000Z
DTEND:20260429T164500Z
SUMMARY:Interment
DESCRIPTION:
URL:https://www.beckerfamilyfuneral.com/obituaries/alan-adamson
LOCATION: 801 East Avenue  Clermont FL 34711
GEO:28.5542482;-81.7562591
END:VEVENT
END:VCALENDAR