BEGIN:VCALENDAR
VERSION:2.0
PRODID:-//Tukios.com/
BEGIN:VEVENT
UID:1c8b7ce3-4bfe-4aa9-a6c6-8d0cb1bb0a1a@www.beckerfamilyfuneral.com
DTSTAMP:20260424T214835Z
DTSTART:20260429T150000Z
DTEND:20260429T160000Z
SUMMARY:Funeral Service
DESCRIPTION:
URL:https://www.beckerfamilyfuneral.com/obituaries/alan-adamson
LOCATION:Living Hope Church 950 7th St  Clermont FL 34711
GEO:28.55305;-81.7675509
END:VEVENT
END:VCALENDAR