BEGIN:VCALENDAR
VERSION:2.0
PRODID:-//Tukios.com/
BEGIN:VEVENT
UID:4283c973-4cd7-4e02-ad8b-f411029bb22d@www.beckerfamilyfuneral.com
DTSTAMP:20260424T214334Z
DTSTART:20260428T220000Z
DTEND:20260429T000000Z
SUMMARY:Visitation
DESCRIPTION:
URL:https://www.beckerfamilyfuneral.com/obituaries/alan-adamson
LOCATION:Becker Funeral Home 806 W Minneola Ave  Clermont FL 34711
GEO:28.5565482;-81.7689469
END:VEVENT
END:VCALENDAR